BEGIN:VCALENDAR
VERSION:2.0
PRODID:-//Circle 3 Ranch - ECPv6.15.20//NONSGML v1.0//EN
CALSCALE:GREGORIAN
METHOD:PUBLISH
X-WR-CALNAME:Circle 3 Ranch
X-ORIGINAL-URL:https://circle3ranchco.com
X-WR-CALDESC:Events for Circle 3 Ranch
REFRESH-INTERVAL;VALUE=DURATION:PT1H
X-Robots-Tag:noindex
X-PUBLISHED-TTL:PT1H
BEGIN:VTIMEZONE
TZID:UTC
BEGIN:STANDARD
TZOFFSETFROM:+0000
TZOFFSETTO:+0000
TZNAME:UTC
DTSTART:20250101T000000
END:STANDARD
END:VTIMEZONE
BEGIN:VEVENT
DTSTART;VALUE=DATE:20260509
DTEND;VALUE=DATE:20260510
DTSTAMP:20260422T041735
CREATED:20260224T233604Z
LAST-MODIFIED:20260224T233604Z
UID:1216-1778284800-1778371199@circle3ranchco.com
SUMMARY:Barrel Race - May 9
DESCRIPTION:May 9 Barrel Race. Contact Samantha Chambers at 719-331-4517\, entries open the Monday before.
URL:https://circle3ranchco.com/event/barrel-race-may-9/
LOCATION:Circle 3 Ranch\, 12393 Squirrel Creek Rd\, Colorado Springs\, CO\, 80928\, United States
END:VEVENT
BEGIN:VEVENT
DTSTART;VALUE=DATE:20260516
DTEND;VALUE=DATE:20260517
DTSTAMP:20260422T041735
CREATED:20260224T233632Z
LAST-MODIFIED:20260224T233632Z
UID:1218-1778889600-1778975999@circle3ranchco.com
SUMMARY:Gymkhana series - May 16
DESCRIPTION:May 16 Gymkhana series\, contact Makenzy at 719-931-2505
URL:https://circle3ranchco.com/event/gymkhana-series-may-16/
LOCATION:Circle 3 Ranch\, 12393 Squirrel Creek Rd\, Colorado Springs\, CO\, 80928\, United States
END:VEVENT
BEGIN:VEVENT
DTSTART;VALUE=DATE:20260523
DTEND;VALUE=DATE:20260524
DTSTAMP:20260422T041735
CREATED:20260224T233656Z
LAST-MODIFIED:20260224T233656Z
UID:1220-1779494400-1779580799@circle3ranchco.com
SUMMARY:Gymkhana series - May 23
DESCRIPTION:May 23 Gymkhana series\, contact Makenzy at 719-931-2505
URL:https://circle3ranchco.com/event/gymkhana-series-may-23/
LOCATION:CO
END:VEVENT
BEGIN:VEVENT
DTSTART;VALUE=DATE:20260606
DTEND;VALUE=DATE:20260607
DTSTAMP:20260422T041735
CREATED:20260225T033909Z
LAST-MODIFIED:20260225T033909Z
UID:1225-1780704000-1780790399@circle3ranchco.com
SUMMARY:De-Spook Clinic - June 6
DESCRIPTION:June 6 De-Spook Clinic
URL:https://circle3ranchco.com/event/de-spook-clinic-june-6/
LOCATION:Circle 3 Ranch\, 12393 Squirrel Creek Rd\, Colorado Springs\, CO\, 80928\, United States
END:VEVENT
BEGIN:VEVENT
DTSTART;VALUE=DATE:20260607
DTEND;VALUE=DATE:20260608
DTSTAMP:20260422T041735
CREATED:20260225T033936Z
LAST-MODIFIED:20260225T033936Z
UID:1227-1780790400-1780876799@circle3ranchco.com
SUMMARY:De-Spook Clinic - June 7
DESCRIPTION:June 7 De-Spook Clinic
URL:https://circle3ranchco.com/event/de-spook-clinic-june-7/
LOCATION:Circle 3 Ranch\, 12393 Squirrel Creek Rd\, Colorado Springs\, CO\, 80928\, United States
END:VEVENT
BEGIN:VEVENT
DTSTART;VALUE=DATE:20260612
DTEND;VALUE=DATE:20260614
DTSTAMP:20260422T041735
CREATED:20260225T034022Z
LAST-MODIFIED:20260225T034022Z
UID:1229-1781222400-1781395199@circle3ranchco.com
SUMMARY:Private Event - June 12 -13
DESCRIPTION:June 12 & 13 Private Event
URL:https://circle3ranchco.com/event/private-event-june-12-13/
LOCATION:Circle 3 Ranch\, 12393 Squirrel Creek Rd\, Colorado Springs\, CO\, 80928\, United States
END:VEVENT
BEGIN:VEVENT
DTSTART;VALUE=DATE:20260620
DTEND;VALUE=DATE:20260621
DTSTAMP:20260422T041735
CREATED:20260225T034103Z
LAST-MODIFIED:20260225T034103Z
UID:1231-1781913600-1781999999@circle3ranchco.com
SUMMARY:Barrel Race - June 20
DESCRIPTION:Barrel Race June 20. Contact Samantha Chambers at 719-331-4517\, entries open the Monday before.
URL:https://circle3ranchco.com/event/barrel-race-june-20/
LOCATION:Circle 3 Ranch\, 12393 Squirrel Creek Rd\, Colorado Springs\, CO\, 80928\, United States
END:VEVENT
BEGIN:VEVENT
DTSTART;VALUE=DATE:20260718
DTEND;VALUE=DATE:20260719
DTSTAMP:20260422T041735
CREATED:20260225T034133Z
LAST-MODIFIED:20260225T034133Z
UID:1233-1784332800-1784419199@circle3ranchco.com
SUMMARY:De-Spook Clinic - July 18
DESCRIPTION:July 18 De-Spook Clinic
URL:https://circle3ranchco.com/event/de-spook-clinic-july-18/
LOCATION:Circle 3 Ranch\, 12393 Squirrel Creek Rd\, Colorado Springs\, CO\, 80928\, United States
END:VEVENT
BEGIN:VEVENT
DTSTART;VALUE=DATE:20260719
DTEND;VALUE=DATE:20260720
DTSTAMP:20260422T041735
CREATED:20260225T034203Z
LAST-MODIFIED:20260225T034203Z
UID:1235-1784419200-1784505599@circle3ranchco.com
SUMMARY:De-Spook Clinic - July 19
DESCRIPTION:July 19 De-Spook Clinic
URL:https://circle3ranchco.com/event/de-spook-clinic-july-19/
LOCATION:Circle 3 Ranch\, 12393 Squirrel Creek Rd\, Colorado Springs\, CO\, 80928\, United States
END:VEVENT
BEGIN:VEVENT
DTSTART;VALUE=DATE:20260726
DTEND;VALUE=DATE:20260727
DTSTAMP:20260422T041735
CREATED:20260225T034236Z
LAST-MODIFIED:20260225T034236Z
UID:1237-1785024000-1785110399@circle3ranchco.com
SUMMARY:Barrel Race - July 26
DESCRIPTION:July 26 Barrel Race. Contact Samantha Chambers at 719-331-4517\, entries open the Monday before.
URL:https://circle3ranchco.com/event/barrel-race-july-26/
LOCATION:Circle 3 Ranch\, 12393 Squirrel Creek Rd\, Colorado Springs\, CO\, 80928\, United States
END:VEVENT
BEGIN:VEVENT
DTSTART;VALUE=DATE:20260815
DTEND;VALUE=DATE:20260816
DTSTAMP:20260422T041735
CREATED:20260225T034304Z
LAST-MODIFIED:20260225T034304Z
UID:1239-1786752000-1786838399@circle3ranchco.com
SUMMARY:Barrel Race - August 15
DESCRIPTION:August 15 Barrel Race. Contact Samantha Chambers at 719-331-4517\, entries open the Monday before.
URL:https://circle3ranchco.com/event/barrel-race-august-15/
LOCATION:Circle 3 Ranch\, 12393 Squirrel Creek Rd\, Colorado Springs\, CO\, 80928\, United States
END:VEVENT
BEGIN:VEVENT
DTSTART;VALUE=DATE:20260829
DTEND;VALUE=DATE:20260830
DTSTAMP:20260422T041735
CREATED:20260225T034335Z
LAST-MODIFIED:20260225T034335Z
UID:1241-1787961600-1788047999@circle3ranchco.com
SUMMARY:Carson James Clinic - August 29
DESCRIPTION:August 29 Carson James Clinic
URL:https://circle3ranchco.com/event/carson-james-clinic-august-29/
LOCATION:Circle 3 Ranch\, 12393 Squirrel Creek Rd\, Colorado Springs\, CO\, 80928\, United States
END:VEVENT
BEGIN:VEVENT
DTSTART;VALUE=DATE:20260830
DTEND;VALUE=DATE:20260831
DTSTAMP:20260422T041735
CREATED:20260225T034406Z
LAST-MODIFIED:20260225T034406Z
UID:1243-1788048000-1788134399@circle3ranchco.com
SUMMARY:Carson James Clinic - August 30
DESCRIPTION:August 30 Carson James Clinic
URL:https://circle3ranchco.com/event/carson-james-clinic-august-30/
LOCATION:Circle 3 Ranch\, 12393 Squirrel Creek Rd\, Colorado Springs\, CO\, 80928\, United States
END:VEVENT
BEGIN:VEVENT
DTSTART;VALUE=DATE:20260919
DTEND;VALUE=DATE:20260920
DTSTAMP:20260422T041735
CREATED:20260225T034527Z
LAST-MODIFIED:20260225T034527Z
UID:1245-1789776000-1789862399@circle3ranchco.com
SUMMARY:Barrel Race - September 19
DESCRIPTION:September 19 Barrel Race. Contact Samantha Chambers at 719-331-4517\, entries open the Monday before.
URL:https://circle3ranchco.com/event/barrel-race-september-19/
LOCATION:Circle 3 Ranch\, 12393 Squirrel Creek Rd\, Colorado Springs\, CO\, 80928\, United States
END:VEVENT
BEGIN:VEVENT
DTSTART;VALUE=DATE:20260926
DTEND;VALUE=DATE:20260928
DTSTAMP:20260422T041735
CREATED:20260225T034612Z
LAST-MODIFIED:20260225T034612Z
UID:1247-1790380800-1790553599@circle3ranchco.com
SUMMARY:Private Event - September 26-27
DESCRIPTION:September 26 & 27 Private Event
URL:https://circle3ranchco.com/event/private-event-september-26-27/
LOCATION:Circle 3 Ranch\, 12393 Squirrel Creek Rd\, Colorado Springs\, CO\, 80928\, United States
END:VEVENT
BEGIN:VEVENT
DTSTART;VALUE=DATE:20261010
DTEND;VALUE=DATE:20261011
DTSTAMP:20260422T041735
CREATED:20260225T034648Z
LAST-MODIFIED:20260225T034648Z
UID:1249-1791590400-1791676799@circle3ranchco.com
SUMMARY:Barrel Race - October 10
DESCRIPTION:October 10 Barrel Race. Contact Samantha Chambers at 719-331-4517\, entries open the Monday before.
URL:https://circle3ranchco.com/event/barrel-race-october-10/
LOCATION:Circle 3 Ranch\, 12393 Squirrel Creek Rd\, Colorado Springs\, CO\, 80928\, United States
END:VEVENT
BEGIN:VEVENT
DTSTART;VALUE=DATE:20261114
DTEND;VALUE=DATE:20261115
DTSTAMP:20260422T041735
CREATED:20260225T034721Z
LAST-MODIFIED:20260225T034721Z
UID:1251-1794614400-1794700799@circle3ranchco.com
SUMMARY:Fountain 4-H Gymkhana - November 14
DESCRIPTION:November 14 Fountain 4-H Gymkhana
URL:https://circle3ranchco.com/event/fountain-4-h-gymkhana-november-14/
LOCATION:Circle 3 Ranch\, 12393 Squirrel Creek Rd\, Colorado Springs\, CO\, 80928\, United States
END:VEVENT
BEGIN:VEVENT
DTSTART;VALUE=DATE:20261121
DTEND;VALUE=DATE:20261122
DTSTAMP:20260422T041735
CREATED:20260225T034757Z
LAST-MODIFIED:20260225T034757Z
UID:1253-1795219200-1795305599@circle3ranchco.com
SUMMARY:Barrel Race - November 21
DESCRIPTION:November 21 Barrel Race. Contact Samantha Chambers at 719-331-4517\, entries open the Monday before.
URL:https://circle3ranchco.com/event/barrel-race-november-21/
LOCATION:Circle 3 Ranch\, 12393 Squirrel Creek Rd\, Colorado Springs\, CO\, 80928\, United States
END:VEVENT
BEGIN:VEVENT
DTSTART;VALUE=DATE:20261219
DTEND;VALUE=DATE:20261220
DTSTAMP:20260422T041735
CREATED:20260225T034836Z
LAST-MODIFIED:20260225T034836Z
UID:1255-1797638400-1797724799@circle3ranchco.com
SUMMARY:Barrel Race - December 19
DESCRIPTION:December 19 Barrel Race. Contact Samantha Chambers at 719-331-4517\, entries open the Monday before.
URL:https://circle3ranchco.com/event/barrel-race-december-19/
LOCATION:Circle 3 Ranch\, 12393 Squirrel Creek Rd\, Colorado Springs\, CO\, 80928\, United States
END:VEVENT
BEGIN:VEVENT
DTSTART;VALUE=DATE:20261220
DTEND;VALUE=DATE:20261221
DTSTAMP:20260422T041735
CREATED:20260225T034909Z
LAST-MODIFIED:20260225T034909Z
UID:1257-1797724800-1797811199@circle3ranchco.com
SUMMARY:Barrel Race - December 20
DESCRIPTION:December 20 Barrel Race. Contact Samantha Chambers at 719-331-4517\, entries open the Monday before.
URL:https://circle3ranchco.com/event/barrel-race-december-20/
LOCATION:Circle 3 Ranch\, 12393 Squirrel Creek Rd\, Colorado Springs\, CO\, 80928\, United States
END:VEVENT
END:VCALENDAR